BEGIN:VCALENDAR
PRODID:-//eluceo/ical//2.0/EN
VERSION:2.0
CALSCALE:GREGORIAN
BEGIN:VEVENT
UID:85f60df72e6b2152959ef0c3f28788e0
DTSTAMP:20260422T131421Z
SUMMARY:Lunch\, propos de table
DESCRIPTION:
URL:https://la-sarraz-milieu-du-monde.rotary1990.ch/bs/agenda/show/16775
DTSTART;TZID=Europe/Zurich:20110128T120000
DTEND;TZID=Europe/Zurich:20110128T120000
LOCATION:Hôtel de la Croix Blanche
CATEGORIES:Rotary
END:VEVENT
BEGIN:VTIMEZONE
TZID:Europe/Zurich
BEGIN:STANDARD
DTSTART:20110128T120000
TZNAME:CET
TZOFFSETTO:+0100
TZOFFSETFROM:+0100
END:STANDARD
END:VTIMEZONE
END:VCALENDAR
